BEGIN:VCALENDAR
VERSION:2.0
PRODID:-//IIMAS-UNAM - ECPv6.3.3.1//NONSGML v1.0//EN
CALSCALE:GREGORIAN
METHOD:PUBLISH
X-WR-CALNAME:IIMAS-UNAM
X-ORIGINAL-URL:https://www.iimas.unam.mx
X-WR-CALDESC:Eventos para IIMAS-UNAM
REFRESH-INTERVAL;VALUE=DURATION:PT1H
X-Robots-Tag:noindex
X-PUBLISHED-TTL:PT1H
BEGIN:VTIMEZONE
TZID:America/Monterrey
BEGIN:STANDARD
TZOFFSETFROM:-0600
TZOFFSETTO:-0600
TZNAME:CST
DTSTART:20250101T000000
END:STANDARD
END:VTIMEZONE
BEGIN:VEVENT
DTSTART;VALUE=DATE:20251128
DTEND;VALUE=DATE:20260621
DTSTAMP:20260424T195725
CREATED:20251104T231300Z
LAST-MODIFIED:20260105T230641Z
UID:12477-1764288000-1781999999@www.iimas.unam.mx
SUMMARY:Matemalquimia
DESCRIPTION:Concebido a principios del otoño de 2019 como una idea de la matemática Ingrid Daubechies y la artista textil Dominique Ehrmann\, el proyecto Mathemalchemy se convirtió en 2020 en una apasionante empresa de colaboración\, impulsada por la energía y el entusiasmo de veinticuatro artistas matemáticos y matemáticos artísticos. Tras más de un año de reunirse sólo a distancia (a causa de la pandemia de Covid) y fabricar los componentes en sus lugares separados\, se reunieron en el verano de 2021\, todos debidamente vacunados\, y construyeron una gran instalación artística multimedia que celebra la creatividad y la belleza de las matemáticas. \n  \nExposición temporal hasta el 20 de junio de 2026
URL:https://www.iimas.unam.mx/event/matemalquimia/
CATEGORIES:Eventos IIMAS
ATTACH;FMTTYPE=image/jpeg:https://www.iimas.unam.mx/wp-content/uploads/2025/11/MATEMALQUIMIA_cartel_1080x1350px.jpg
END:VEVENT
BEGIN:VEVENT
DTSTART;TZID=America/Monterrey:20260427T120000
DTEND;TZID=America/Monterrey:20260427T140000
DTSTAMP:20260424T195725
CREATED:20260414T232732Z
LAST-MODIFIED:20260417T003759Z
UID:13041-1777291200-1777298400@www.iimas.unam.mx
SUMMARY:Representar lo social. Una lectura pluralista de sus desacuerdos epistémicos
DESCRIPTION:Seminario híbrido del DMMSS\nResumen \nDesde su institucionalización\, ocurrida hacia finales del siglo XIX\, las ciencias sociales han tenido como sustrato epistémico definir con precisión aquello que constituye la dimensión social del ser humano\, así como los constructos que dicha dimensión posibilita\, esto como una vía explicativa de las dinámicas y procesos (tanto diacrónicos como sincrónicos) que se desencadenan a partir de dicha condición. Desde entonces\, diferentes tradiciones perfilan nociones distintas de la misma mediante la caracterización de instancias como las interacciones sociales\, las instituciones que moldean a los sujetos que las llevan a cabo\, o las prácticas sociales que delinean la reproducción de estructuras de carácter social. Otras tradiciones\, sin embargo\, enfatizan que las instancias representativas del mundo social son\, en realidad\, una cuestión emergente que va más allá de\, o no se delimita por\, la intervención del sujeto\, ya que asumen que la comunicación o los sistemas complejos constituyen una mejor representación de la socialidad constitutiva de aquello que se define como sociedad. En esta plática exploro dos posibles interpretaciones para entender el repertorio de alternativas de representación de lo social. Por un lado\, describiré la vía que denominaré pre-paradigmática\, en alusión a la lectura kuhniana de las ciencias sociales. Desde esta vía se enfatizan aspectos como la inconmensurabilidad de las perspectivas teóricas que construyen la diversidad de opciones con las que cuentan las ciencias sociales para representar la dimensión social. Por otro lado\, señalaré la lectura pluralista y enfatizaré nuevas maneras de pensar la diversidad de las herramientas teóricas con las cuales definir y representar lo social\, como las prácticas de modelación perspectivista (Massimi\, 2022) que alientan la exploración de escenarios posibles basándose en un razonamiento inferencial. Mientras que la primera vía se enfrenta a obstáculos que pueden reducir el alcance epistémico de lo social a relaciones de poder\, la segunda vía ofrece una alternativa para entender la pluralidad\, valorando las aportaciones epistémicas de la diversidad\, sin desatender necesariamente la observación de las dinámicas de poder presentes en el estudio del mundo social\, aunque\, y esto es lo relevante de esta segunda vía\, no las reduce a ellas. \nPonente \nIván Eliab Gómez Aguilar \nUniversidad Autónoma Chapingo \nZoom: https://cuaed-unam-mx.zoom.us/j/87076384773
URL:https://www.iimas.unam.mx/event/representar-lo-social-una-lectura-pluralista-de-sus-desacuerdos-epistemicos/
LOCATION:Salon 22 Edificio C
CATEGORIES:Eventos IIMAS
ATTACH;FMTTYPE=image/jpeg:https://www.iimas.unam.mx/wp-content/uploads/2026/04/IG_270426_1080x1080-1.jpg
END:VEVENT
BEGIN:VEVENT
DTSTART;TZID=America/Monterrey:20260429T113000
DTEND;TZID=America/Monterrey:20260429T120000
DTSTAMP:20260424T195725
CREATED:20260418T001122Z
LAST-MODIFIED:20260421T000945Z
UID:13056-1777462200-1777464000@www.iimas.unam.mx
SUMMARY:Homenaje a Martín Fuentes
DESCRIPTION:Un evento para honrar la memoria del Ing. Martín Fuentes Cruz\, miembro del Departamento de Ingeniería de Sistemas Computacionales y Automatización. \nParticipan \nDra. Helena Gómez Adorno\, Jefa del Departamento de Ingeniería de Sistemas Computacionales y Automatización (DISCA) \n-Dr. D. Fabián García Nocetti\, Investigador Titular\, DISCA \n-Dr. Mario Peña Cabrera\, Técnico Académico Jubilado\, DISCA \n-Dra. Katya Rodríguez Vázquez\, Investigadora Titular\, DISCA \n-Mtro. Joel Durán Ortega\, Técnico Académico\, DISCA \n-Dr. Martín Fuentes Cano\, Técnico Académico Titular\, Facultad de Ciencias \n-Dr. Pedro Acevedo Contla\, Investigador Titular\, DISCA
URL:https://www.iimas.unam.mx/event/homenaje-a-martin-fuentes/
LOCATION:Auditorio del IIMAS\, Circuito Escolar S/N\, Ciudad Universitaria\, Ciudad de México\, 04510\, Mexico
CATEGORIES:Eventos IIMAS
ATTACH;FMTTYPE=image/jpeg:https://www.iimas.unam.mx/wp-content/uploads/2026/04/WhatsApp-Image-2026-04-10-at-10.31.58-1.jpeg
END:VEVENT
BEGIN:VEVENT
DTSTART;TZID=America/Monterrey:20260430T120000
DTEND;TZID=America/Monterrey:20260430T120000
DTSTAMP:20260424T195725
CREATED:20260415T164354Z
LAST-MODIFIED:20260418T000614Z
UID:13046-1777550400-1777550400@www.iimas.unam.mx
SUMMARY:Operadores de transmutación y su aplicación a la solución de problemas de tipo SturmLiouville
DESCRIPTION:Coloquio de Matemáticas Aplicadas\nEn esta plática presentaremos algunos nuevos resultados [1\,2] acerca de la construcción y aplicación de operadores integrales de transmutación para la solución de problemas de tipo Sturm-Liouville relacionados con la ecuación de Schrödinger con potencial distribucional y la de Sturm-Liouville en forma de impedancia (SLEIF). Primero\, veremos que toda solución de la ecuación de Schrödinger distribucional con parámetro espectral w puede representarse como la imagen de las soluciones de la ecuación v”+wv=0\, mediante un operador integral de Volterra con un núcleo de clase Lˆ2. Posteriormente\, mostraremos que toda ecuación de Schrödinger distribucional posee una “función de impedancia” (es decir\, una solución que no tiene ceros en el intervalo de interés)\, de donde obtenemos que ésta ecuación es equivalente a una de tipo SLEIF cuyo coeficiente principal es precisamente la “función de impedancia” obtenida\, y deducimos la construcción de un operador de transmutación para tal ecuación. A partir de dicha representación integral\, construimos una representación en serie de Neumann de funciones de Bessel esféricas (NSBF) para las soluciones de la SLEIF\, cuyos coeficientes pueden calcularse mediante un procedimiento de integración recursiva sencillo. Finalizamos mostrando algunas aplicaciones de las series NSBF al cálculo de los datos espectrales del problema de Dirichlet para la ecuación de impedancia. \n1. V. A. Vicente-Benítez. Transmutation operators for Schrödinger equations with distributional potentials and the associated impedance equation\, (preprint) arXiv:2511.12094.\n2. A. G. Márquez-Hernández\, V. A. VicenteBenítez. Neumann series of Bessel functions for the solutions of the Sturm-Liouville equation in impedance form and related boundary value problems\, (preprint) arXiv:2601.04513. \nPonente \nDr. Víctor Alfonso Vicente Benitez \nInstituto de Matemáticas\, UNAM \nInformes \nluis.lopez@mym.iimas.unam.mx \ndaniel.castanon@iimas.unam.mx \n 
URL:https://www.iimas.unam.mx/event/operadores-de-transmutacion-y-su-aplicacion-a-la-solucion-de-problemas-de-tipo-sturmliouville/
LOCATION:Salón 13\, Edificio C del IIMAS
CATEGORIES:Eventos IIMAS
ATTACH;FMTTYPE=image/jpeg:https://www.iimas.unam.mx/wp-content/uploads/2026/04/IG_CMA_300426_1080x1080.jpg
END:VEVENT
BEGIN:VEVENT
DTSTART;TZID=America/Monterrey:20260430T160000
DTEND;TZID=America/Monterrey:20260430T170000
DTSTAMP:20260424T195725
CREATED:20260328T180239Z
LAST-MODIFIED:20260417T004044Z
UID:13012-1777564800-1777568400@www.iimas.unam.mx
SUMMARY:Matemáticas en una burbuja de jabón
DESCRIPTION:Conversa Matemágico\nResumen \nLas matemáticas están en todas partes. Un ejemplo es el agua con jabón.\nUna observación cuidadosa nos lleva de la tensión superficial al cálculo de variaciones pasando por las leyes de Plateau\, un poco de trigonometría y los panales de abejas. \nPonente \nDra. Clara Garza \nDepartamento de Matemáticas y Mecánica\, IIMAS
URL:https://www.iimas.unam.mx/event/matematicas-en-una-burbuja-de-jabon-2/
LOCATION:Salón 13\, Edificio C del IIMAS
CATEGORIES:Eventos IIMAS
ATTACH;FMTTYPE=image/jpeg:https://www.iimas.unam.mx/wp-content/uploads/2026/03/Clara-Garza-1080.jpg
END:VEVENT
BEGIN:VEVENT
DTSTART;TZID=America/Monterrey:20260507T120000
DTEND;TZID=America/Monterrey:20260507T130000
DTSTAMP:20260424T195725
CREATED:20260424T211112Z
LAST-MODIFIED:20260424T211112Z
UID:13071-1778155200-1778158800@www.iimas.unam.mx
SUMMARY:Birkhoff Sums: Recent Research into Irrational Rotations
DESCRIPTION:Coloquio de Matemáticas Aplicadas\nResumen \n* HOW WELL DISTRIBUTED ARE {iρ}i=1∞ MOD 1 ? Arrays of well distributed points are an important tool in Num. Anal. Irrational rotations play a central role in Erg Th\, Dyn Sys\, and Num Th.\n* Discrepancy (Pisot\, Van Der Corput\, 1930’s) characterizes how evenly distributed a sequence of numbers in [0\,1) is. We study the discrepancy of {x0+iρ}i=1∞.\n* The Birkhoff measure ν(ρ\,n\,z)dz associated to frac(x0+iρ) for i=1 to n is the probability that Σi=1n[frac(x0+iρ)−1/2] is in z+dz if the distribution of x0 is uniform on the circle.\n* New results: the graph of the Birkhoff measure ν(z) is a tile. If n is a continued fraction denominator of ρ\, then that graph is an isosceles trapezoid. The length of the support of ν(z) equals the discrepancy (up to scaling).\n* We also give new and much more efficient proofs of two classical — but largely forgotten — results that allow one to compute the exact value of the discrepancy. We indicate some of these exact results. \nPonente \nDr. J. J. P. Veerman \nMath/Stat\, Portland State University
URL:https://www.iimas.unam.mx/event/birkhoff-sums-recent-research-into-irrational-rotations/
LOCATION:Salón 13\, Edificio C del IIMAS
CATEGORIES:Eventos IIMAS
END:VEVENT
BEGIN:VEVENT
DTSTART;TZID=America/Monterrey:20260508T100000
DTEND;TZID=America/Monterrey:20260508T120000
DTSTAMP:20260424T195725
CREATED:20260422T184223Z
LAST-MODIFIED:20260422T200105Z
UID:13066-1778234400-1778241600@www.iimas.unam.mx
SUMMARY:Hope and Regret: Two Sides of Expectation-Based Emotions in Social Media Analysis.
DESCRIPTION:Seminario DISCA Primavera\nResumen \nEsta ponencia propone un marco unificado para el análisis computacional de emociones basadas en expectativas\, enfocándose en la esperanza y el arrepentimiento como en dos caras de una isma moneda. Mientras la esperanza refleja expectativas positivas hacia el futuro\, el arrepentimiento surge en discrepancias entre expectativas y resultados pasados. Se presentarán metodologías basadas en procesamiento de lenguaje natural y modelos de aprendizaje profundo para identificar y clasificar estas emociones en textos de redes sociales. Así mismo\, se introduce el concepto de Pink Regret para capturar dimensiones finales del arrepentimiento (Foundation\, Boldness\, Moral y Connection) y se discuten aplicaciones en salud mental\, toma de decisiones y análisis del comportamiento humano. \nPonente \nDr. Fazlourrahman Balouchzahi\, Becario Posdoctoral\, DISCA \nInformes: seminariodisca@gmail.com
URL:https://www.iimas.unam.mx/event/hope-and-regret-two-sides-of-expectation-based-emotions-in-social-media-analysis/
LOCATION:Salón 13\, Edificio C del IIMAS
CATEGORIES:Eventos IIMAS
ATTACH;FMTTYPE=image/jpeg:https://www.iimas.unam.mx/wp-content/uploads/2026/04/Seminario_DISCA_IG_080526.jpg
END:VEVENT
END:VCALENDAR